BEGIN:VCALENDAR
VERSION:2.0
PRODID:-//wp-events-plugin.com//7.2.3.1//EN
BEGIN:VEVENT
UID:342@cbt.org.mx
DTSTART;TZID=America/Mexico_City:20251102T070000
DTEND;TZID=America/Mexico_City:20251102T070000
DTSTAMP:20251028T220735Z
URL:https://cbt.org.mx/events/10ma-carrera-cumbres-2025/
SUMMARY:10ma Carrera Cumbres 2025
DESCRIPTION:\n\n\n\n¡Bienvenidos a la 10ma Carrera Cumbres 2025!\n\nwww.as
 deporte.com es un medio de difusión y promoción de eventos deportivos\,
  así como una plataforma para la captación de inscripciones al servicio 
 de los organizadores de eventos en general.\n\nDatos de contacto con el or
 ganizador.\n\nTeléfono(s): 9981 099169\n\nE-mail: armandomabri@yahoo.co
 m.mx\n\nPara dudas y aclaración sobre la logística del evento por favor 
 de contactar directamente al organizador.\n\nPara dudas sobre el proceso d
 e inscripción contáctanos\n\nDatos del evento\n\nFecha: Domingo 2 de n
 oviembre de 2025.\n\nHorario:\n\nArranque niños: 7:00 am\n\nAdultos: 7:25
  am\n\nLugar: Residencial ALTAI\, Quintana Roo.\n\n\n\n\n\n\n\n\nPremiaic
 ión\n\nAl terminar la competencia\, el comité organizador llevara a cabo
  la ceremonia de premiación. Para todos los participantes de la carrera s
 e les entregara al cruzar la meta una medalla conmemorativa del evento. Pa
 ra los ganadores de cada categoría se entregarán premios Desglosar los p
 remios a entregar:\n\n- Se entregará a cada ganador por categoría un tro
 feo o reconocimiento conmemorativo.\n\n- 12 trofeos o reconocimientos para
  niños.\n\n- 108 trofeos o reconocimientos para las categorías.\n\n- 18 
 premios en efectivo para los ganadores absolutos.\n\nTotal 120 premios y r
 econocimientos.\n\n\n\nAbsoluta 3 km\nAbsoluta 6 km \nAbosluta 9 km \n\n
 \n1er Lugar $2\,000.00\n1er Lugar $3\,000.00\n1er Lugar $4\,000.00\n\n\n2d
 o Lugar $1\,500.00\n2do Lugar $2\,000.00\n2do Lugar $3\,000.00\n\n\n3er Lu
 gar $1\,000.00\n3er Lugar $1\,500.00\n3er Lugar $2\,000.00\n\n\n\n\n\n
ATTACH;FMTTYPE=image/jpeg:https://cbt.org.mx/wp-content/uploads/2025/10/17
 58221538993_logo-cumbres.jpg
CATEGORIES:Carreras
LOCATION:Cancún\, Cancún\, Cancún\, Quintana Roo\, México
GEO:21.161908;-86.851528
X-APPLE-STRUCTURED-LOCATION;VALUE=URI;X-ADDRESS=Cancún\, Cancún\, Quintan
 a Roo\, México;X-APPLE-RADIUS=100;X-TITLE=Cancún:geo:21.161908,-86.85152
 8
END:VEVENT
BEGIN:VTIMEZONE
TZID:America/Mexico_City
X-LIC-LOCATION:America/Mexico_City
BEGIN:STANDARD
DTSTART:20241102T070000
TZOFFSETFROM:-0600
TZOFFSETTO:-0600
TZNAME:CST
END:STANDARD
END:VTIMEZONE
END:VCALENDAR