BEGIN:VCALENDAR
VERSION:2.0
PRODID:-//wp-events-plugin.com//7.2.3.1//EN
BEGIN:VEVENT
UID:414@cbt.org.mx
DTSTART;TZID=America/Mexico_City:20260322T063000
DTEND;TZID=America/Mexico_City:20260322T063000
DTSTAMP:20260119T235942Z
URL:https://cbt.org.mx/events/14a-carrera-kardias-tudn-2026/
SUMMARY:14ª Carrera Kardias TUDN 2026
DESCRIPTION:\n\n\n\n¡Bienvenidos a la 14ª Carrera Kardias TUDN 2026!\n\nK
 ardias es una organización civil comprometida con brindar atención méd
 ica especializada a niñas y niños en México que nacieron con enfermedad
 es del corazón\, sin importar la situación económica de sus familias.\n
 \nPor medio de la Carrera Kardias TUDN\, les invitamos a sumarse a esta in
 iciativa que transforma vidas\, destinando el total de las inscripciones a
  cirugías cardiacas para los pacientes de nuestro programa.\n\nDesde su f
 undación en el año 2000\, Kardias ha realizado más de 5\,000 procedimie
 ntos\, entre cirugías y cateterismos terapéuticos\, beneficiando a más
  de 18\,000 personas de todas las entidades del país.\n\nDatos del evento
 \n\nFecha: Domingo 22 de marzo de 2026\n\nLugar sede: Ciudad de México\
 n\nLugar de salida y meta: Av. Paseo de la Reforma y el monumento Estela 
 de Luz\, esquina calle Lieja 270\, Bosque de Chapultepec\, Primera Secció
 n\, Alcaldía Miguel Hidalgo\, 11580\, Ciudad de México.\n\nDistancias y 
 horarios de salida:\n\n 	6:30 a.m. - Medio Maratón 21 km\n 	6:45 a.m. 
 – Carrera 5 km\n 	7:15 a.m. – Carrera 10 km\n\nCupo: Limitado a 15\
 ,000 participantes\n\nTiempos máximos de carrera:\n\n 	Medio Maratón 21.
 0975 km – 3 horas y 15 minutos\n 	Carrera 10 km – 1 hora y 45 minuto
 s\n 	Carrera 5 km – 50 minutos\n\n\n\n\n\n\n\n\n&nbsp\;\n\nPremiación\
 n\n 	La ceremonia de premiación se realizará en el lugar de meta\, en Av
 . Paseo de La Reforma esquina calle Lieja\, aproximadamente a las 9:00 a.m
 .\n 	Se entregará trofeo a los 3 primeros lugares ABSOLUTOS de las distan
 cias de 10 y 21 km\, en las ramas varonil y femenil.\n 	Los resultados y p
 remiación se obtendrán de acuerdo con el TIEMPO OFICIAL del competidor.\
 n 	La carrera de 5 km es recreativa\, por lo que NO tendrá premiación.\n
 \n\n\n
ATTACH;FMTTYPE=image/jpeg:https://cbt.org.mx/wp-content/uploads/2026/01/17
 62367114164_Kardias-26-logo-300-verde.jpg
CATEGORIES:Carreras
LOCATION:Ciudad de México\, CDMX\, CDMX\, CDMX\, México
GEO:19.441473;-99.158528
X-APPLE-STRUCTURED-LOCATION;VALUE=URI;X-ADDRESS=CDMX\, CDMX\, CDMX\, Méxic
 o;X-APPLE-RADIUS=100;X-TITLE=Ciudad de México:geo:19.441473,-99.158528
END:VEVENT
BEGIN:VTIMEZONE
TZID:America/Mexico_City
X-LIC-LOCATION:America/Mexico_City
BEGIN:STANDARD
DTSTART:20250322T063000
TZOFFSETFROM:-0600
TZOFFSETTO:-0600
TZNAME:CST
END:STANDARD
END:VTIMEZONE
END:VCALENDAR