BEGIN:VCALENDAR
VERSION:2.0
PRODID:-//wp-events-plugin.com//7.2.3.1//EN
BEGIN:VEVENT
UID:75@cbt.org.mx
DTSTART;TZID=America/Mexico_City:20240714T070000
DTEND;TZID=America/Mexico_City:20240714T140000
DTSTAMP:20240621T231517Z
URL:https://cbt.org.mx/events/2a-carrera-pet-friendly-metepec-2024/
SUMMARY:2ª Carrera “Pet Friendly Metepec 2024”
DESCRIPTION:\n\n\n\n\nDatos del evento\n\nFecha: Domingo 14 de julio de 20
 24\n\nLugar:  Plaza Juárez\, Metepec\, Centro\, (Junto a la Presidencia
  Municipal)\n\nHora de salida: \n\n 	\n\n 	Calentamiento: 7:00 - 7:15 am\
 n 	7:30 am Banderazo de salida\n\n\n\nDistancias:\n\n 	3 km\n 	5 km\n\n&nb
 sp\;\n\n\n\n\n\n\n\n\n\nPremiación\n\nPremiación 5 km\n\nVaronil y Femen
 il con mascota de compañia\n\n 	1er Lugar $2\,000.00 + Bulto de alimiento
  de 25 kg y kit de accesorios para la mascota\n 	2do Lugar $1\, 000.00 + B
 ulto de alimento 25 kg y dispensador de agua\n 	3er Lugar $1\,000.00 + Bul
 o de alimento de 25 kg\n\nPremiación 5 km\n\nVaronil y Femenil sin mascot
 a de compañia\n\n 	1er Lugar $2\,000.00\n 	2do Lugar $1\, 500.00\n 	3er L
 ugar $1\,000.00\n\nRecuerda que la ruta de 3K es RECREATIVA\, para que te 
 diviertas\, camines o trotes. Sin derecho de premiación Rifa entre concur
 santes de algunos accesorios para mascotas y productos de nuestros patroci
 nadores.\n\n\n\n
ATTACH;FMTTYPE=image/jpeg:https://cbt.org.mx/wp-content/uploads/2024/06/17
 18909715454_logo-pet.jpg
CATEGORIES:Carreras
LOCATION:Plaza Juárez\, Plaza Juárez\, Metepec\, Metepec\, Estado de Méx
 ico\, México
GEO:19.252;-99.604782
X-APPLE-STRUCTURED-LOCATION;VALUE=URI;X-ADDRESS=Plaza Juárez\, Metepec\, M
 etepec\, Estado de México\, México;X-APPLE-RADIUS=100;X-TITLE=Plaza Juá
 rez:geo:19.252,-99.604782
END:VEVENT
BEGIN:VTIMEZONE
TZID:America/Mexico_City
X-LIC-LOCATION:America/Mexico_City
BEGIN:STANDARD
DTSTART:20230715T070000
TZOFFSETFROM:-0600
TZOFFSETTO:-0600
TZNAME:CST
END:STANDARD
END:VTIMEZONE
END:VCALENDAR