BEGIN:VCALENDAR
VERSION:2.0
PRODID:-//wp-events-plugin.com//7.2.3.1//EN
BEGIN:VEVENT
UID:249@cbt.org.mx
DTSTART;TZID=America/Mexico_City:20250810T063000
DTEND;TZID=America/Mexico_City:20250810T063000
DTSTAMP:20250701T221601Z
URL:https://cbt.org.mx/events/4ta-carrera-el-dictamen-2025/
SUMMARY:4ta Carrera El Dictamen 2025
DESCRIPTION:El Periódico EL DICTAMEN y la empresa Bike and Run invitan a 
 todos corredores\, clubes\, equipos y asociaciones a participar en la 4er 
 Edición de LA CARRERA EL DICTAMEN.\n\nwww.asdeporte.com es un medio de d
 ifusión y promoción de eventos deportivos\, así como una plataforma par
 a la captación de inscripciones al servicio de los organizadores de event
 os en general.\n\nDatos de contacto con el organizador.\n\nTeléfono(s): 
 55 767 593 39 o 55 767 593 40\n\nE-mail: info@estudio81.mx\n\nPara dudas 
 y aclaración sobre la logística del evento por favor de contactar direct
 amente al organizador.\n\nPara dudas sobre el proceso de inscripción con
 táctanos\n\nDatos del evento\n\nFecha:  10 de agosto de 2025\n\nLugar:
  Veracruz\n\nHorario: 6:30 am\n\nPremiación\n\nPremiación 5 km\n\n\n\n
 Lugar\nJuvenil\n14 a 17 años\nLibre\n18 a 39 años\nMaster\n40 a 52 años
 \nVeteranos\n53 años y más\n\n\n1er Lugar\n$1\,00.00\n$1\,200.00\n$1\,20
 0.00\n$1\,200.00\n\n\n2do Lugar\n$800.00\n$1\,000.00\n$1\,000.00\n$1\,000.
 00\n\n\n3er Lugar\n$600.00\n$800.00\n$800.00\n$800.00\n\n\n\nPremiación 1
 0 km\n\n\n\nLugar\nJuvenil\n14 a 17 años\nLibre\n18 a 39 años\nMaster\n4
 0 a 52 años\nVeteranos\n53 años y más\n\n\n1er Lugar\n$1\,200.00\n$1\,4
 00.00\n$1\,400.00\n$1\,400.00\n\n\n2do Lugar\n$1\,000.00\n$1\,200.00\n$1\,
 200.00\n$1\,200.00\n\n\n3er Lugar\n$800.00\n$1\,000.00\n$1\,000.00\n$1\,00
 0.00\n\n\n\nBolsa en efectivo por la cantidad de$50\,400.00 (Cincuenta mil
  pesos 00/100 M.N.)\n\nEn todas las CATEGORIAS Y DISTANCIAS (JUVENIL\, LIB
 RE\, MASTER\, VETERANOS EN RAMAS VARONIL Y FEMENIL) se premiará al prime
 ro\, segundo y tercer lugar en EFECTIVO parte del comité organizador.\n\n
 Se entregará una medalla conmemorativa a todos los participantes que cru
 cen la meta dentro del tiempo máximo de recorrido (1:30 HRS).\n\nImporta
 nte:\n\n 	Solo podrán ser acreedores a premiación aquellos corredores y 
 corredoras que realicen el recorrido en su totalidad y que durante toda la
  ruta porten el Número\, la Playera y el Chip de Cronometraje Oficial.\n 
 	Para recoger su premiación será necesario presentar una identificación
  con fotografía y su número de corredor.\n
ATTACH;FMTTYPE=image/jpeg:https://cbt.org.mx/wp-content/uploads/2025/07/17
 44646653528_logo-dictamen.jpg
CATEGORIES:Carreras
LOCATION:Veracruz\, Veracruz\, Veracruz\, Veracruz\, Veracruz\, Veracruz\, 
 México
GEO:19.173773;-96.134224
X-APPLE-STRUCTURED-LOCATION;VALUE=URI;X-ADDRESS=Veracruz\, Veracruz\, Verac
 ruz\, Veracruz\, México;X-APPLE-RADIUS=100;X-TITLE=Veracruz\, Veracruz:ge
 o:19.173773,-96.134224
END:VEVENT
BEGIN:VTIMEZONE
TZID:America/Mexico_City
X-LIC-LOCATION:America/Mexico_City
BEGIN:STANDARD
DTSTART:20240810T063000
TZOFFSETFROM:-0600
TZOFFSETTO:-0600
TZNAME:CST
END:STANDARD
END:VTIMEZONE
END:VCALENDAR