BEGIN:VCALENDAR
VERSION:2.0
PRODID:-//wp-events-plugin.com//7.2.3.1//EN
BEGIN:VEVENT
UID:268@cbt.org.mx
DTSTART;TZID=America/Mexico_City:20250907T063000
DTEND;TZID=America/Mexico_City:20250907T063000
DTSTAMP:20250804T225509Z
URL:https://cbt.org.mx/events/batman-run-cdmx-2025/
SUMMARY:Batman Run CDMX 2025
DESCRIPTION:¡Gracias a tu "Batiseñal"\, reabrimos INSCRIPCIONES!\n\nNo te
  quedes fuera.\n\n¡Bienvenidos a Batman Run CDMX 2025!\n\nThe Gotham City
  Challenge\n\nCiudad Gótica se muda a Ciudad de México\, no te pierdas l
 a oportunidad de correr junto al “Caballerro de la noche”.\n\nDatos de
 l Evento\n\nFecha: Domingo 7 de septiembre del 2025\n\nLugar sede: Ciuda
 d de México\n\nLugar de salida y meta: En Six Flags México\n\nUbicació
 n: Carretera Picacho-Ajusco km 1.5\, Jardines del Ajusco\, Tlalpan\, 1421
 9 Ciudad de México\, CDMX\n\nDistancias:\n\n 	Carrera 3 km (10 años y m
 ás) - AGOTADA\n 	Carrera 5 km (12 años y más)\n 	Carrera 10 km (15 añ
 os y más)\n\nHora de salida: A partir de las 6:30 a.m\n\nTiempos máximos
  de competencia:\n\n 	Carrera 10 km – 1 hora y 30 minutos\n 	Carrera 5 k
 m – 45 minutos\n 	Carrera 3 km – 30 minutos\n\nPremiación\n\n 	La cer
 emonia de premiación se realizará al terminar el evento\, aproximadament
 e a las 8:30 a.m.\n 	Los resultados y tiempos y premiación serán de acue
 rdo al “Tiempo OFICIAL”.\n 	Se premiará a los 3 primeros lugares co
 mo Ganadores Absolutos\, en las distancias de 5 y 10 km\, en ambas ramas v
 aronil y femenil.\n 	La Carrera de 3 km es recreativa\, por lo que no ser
 á premiada.\n 	Los participantes que se hagan acreedores a un trofeo y no
  estén presentes en el momento de la premiación perderán el derecho a q
 ue se les envíe éste. Podrán recogerlo en las oficinas de AsDeporte una
  vez que se haya certificado que se hizo acreedor a este. No es obligació
 n de AsDeporte hacérselo llegar por ningún medio.\n 	El reclamo del trof
 eo en caso de no permanecer en la premiación puede hacerse hasta 15 días
  hábiles posteriores a la fecha del evento\, una vez pasado ese plazo\, s
 e perderá todo derecho de reclamo.\n
ATTACH;FMTTYPE=image/jpeg:https://cbt.org.mx/wp-content/uploads/2025/08/17
 53459773098_Batman-25-logo-300.jpg
CATEGORIES:Carreras
LOCATION:Ciudad de México\, CDMX\, CDMX\, CDMX\, México
GEO:19.441473;-99.158528
X-APPLE-STRUCTURED-LOCATION;VALUE=URI;X-ADDRESS=CDMX\, CDMX\, CDMX\, Méxic
 o;X-APPLE-RADIUS=100;X-TITLE=Ciudad de México:geo:19.441473,-99.158528
END:VEVENT
BEGIN:VTIMEZONE
TZID:America/Mexico_City
X-LIC-LOCATION:America/Mexico_City
BEGIN:STANDARD
DTSTART:20240907T063000
TZOFFSETFROM:-0600
TZOFFSETTO:-0600
TZNAME:CST
END:STANDARD
END:VTIMEZONE
END:VCALENDAR