BEGIN:VCALENDAR
VERSION:2.0
PRODID:-//wp-events-plugin.com//7.2.3.1//EN
BEGIN:VEVENT
UID:345@cbt.org.mx
DTSTART;TZID=America/Mexico_City:20251108T070000
DTEND;TZID=America/Mexico_City:20251108T070000
DTSTAMP:20251028T221004Z
URL:https://cbt.org.mx/events/carrera-corre-con-el-corazon-waldos-2025/
SUMMARY:Carrera Corre con el Corazón Waldo´s 2025
DESCRIPTION:¡BIenvenidos a la Carrera Corre con el Corazón Waldo´s 2025
 !\n\nCorre con el corazón en la 4ta Carrera con Causa. Únete y transform
 a tu esfuerzo en apoyo.\n\nwww.asdeporte.com es un medio de difusión y p
 romoción de eventos deportivos\, así como una plataforma para la captaci
 ón de inscripciones al servicio de los organizadores de eventos en genera
 l.\n\nDatos de contacto con el organizador.\n\nE-mail: hola@juzt.run\n\nT
 eléfono: 55 6496 9446\n\nPara dudas y aclaración sobre la logística del
  evento por favor de contactar directamente al organizador.\n\nPara dudas 
 sobre el proceso de inscripción contáctanos\n\nDatos del evento\n\nFech
 a: Sábado 8 de noviembre de 2025.\n\nHorario: 7:00 am\n\nLugar: CIuda
 d de México\n\n¿Dónde será la salida y meta?\n\n2da Sección Bosque de
  Chapultepec\, Fuente de Xochipilli.\n\n&nbsp\;\n\nPremiación\n\nSe premi
 ará a los 3 primeros lugares de cada categoría y distancia.\n*La Caminat
 a es un evento recreativo\, no lleva premiación.
ATTACH;FMTTYPE=image/jpeg:https://cbt.org.mx/wp-content/uploads/2025/10/17
 56162051370_logo-waldos.jpg
CATEGORIES:Carreras
LOCATION:2da Sección del Bosque de Chapultepec\, 2da Sección del Bosque d
 e Chapultepec\, CDMX\, CDMX\, México
GEO:19.419482;-99.189456
X-APPLE-STRUCTURED-LOCATION;VALUE=URI;X-ADDRESS=2da Sección del Bosque de 
 Chapultepec\, CDMX\, CDMX\, México;X-APPLE-RADIUS=100;X-TITLE=2da Secció
 n del Bosque de Chapultepec:geo:19.419482,-99.189456
END:VEVENT
BEGIN:VTIMEZONE
TZID:America/Mexico_City
X-LIC-LOCATION:America/Mexico_City
BEGIN:STANDARD
DTSTART:20241108T070000
TZOFFSETFROM:-0600
TZOFFSETTO:-0600
TZNAME:CST
END:STANDARD
END:VTIMEZONE
END:VCALENDAR