BEGIN:VCALENDAR
VERSION:2.0
PRODID:-//wp-events-plugin.com//7.2.3.1//EN
BEGIN:VEVENT
UID:150@cbt.org.mx
DTSTART;TZID=America/Mexico_City:20250126T070000
DTEND;TZID=America/Mexico_City:20250126T070000
DTSTAMP:20250115T213300Z
URL:https://cbt.org.mx/events/carrera-vida-y-alegria-2024-2/
SUMMARY:Carrera Vida y Alegría 2024
DESCRIPTION:\n\n\n\nDatos de contacto con el organizador.\n\nE-mail: arman
 do@motionevents.mx\n\nPara dudas y aclaración sobre la logística del eve
 nto por favor de contactar directamente al organizador.\n\nPara dudas sobr
 e el proceso de inscripción contáctanos\n\nDatos del evento\n\nFecha: 
 Domingo 26 de enero de 2025\n\nHorario:\n\n 	7:00 am Niños\n 	7:20 Adulto
 s\n\nLugar: Malecón Tajamar\, Cancún Quintana Roo\n\n\n\n\n\n\n\n\nPrem
 aición \n\nAl terminar la competencia\, el comité organizador llevara a
  cabo la ceremonia de premiación. Para todos los participantes de la carr
 era se les entregara al cruzar la meta una medalla conmemorativa del event
 o.\n\nPara los ganadores de cada categoría se entregarán premios Desglos
 ar los premios a entregar:\n\n 	12 premios a los niños\n 	48 premios para
  las categorías\n\nTotal 60 premios\n\n\n\n
ATTACH;FMTTYPE=image/jpeg:https://cbt.org.mx/wp-content/uploads/2025/01/17
 28573454681_LOGO-VIDA-ZA.jpg
CATEGORIES:Carreras
LOCATION:Malecón Tajamar\, Malecón Tajamar Cancún\, Cancún\, QUINTANA R
 OO\, México
GEO:21.146935;-86.814522
X-APPLE-STRUCTURED-LOCATION;VALUE=URI;X-ADDRESS=Malecón Tajamar Cancún\, 
 Cancún\, QUINTANA ROO\, México;X-APPLE-RADIUS=100;X-TITLE=Malecón Tajam
 ar:geo:21.146935,-86.814522
END:VEVENT
BEGIN:VTIMEZONE
TZID:America/Mexico_City
X-LIC-LOCATION:America/Mexico_City
BEGIN:STANDARD
DTSTART:20240127T070000
TZOFFSETFROM:-0600
TZOFFSETTO:-0600
TZNAME:CST
END:STANDARD
END:VTIMEZONE
END:VCALENDAR