BEGIN:VCALENDAR
VERSION:2.0
PRODID:-//wp-events-plugin.com//7.2.3.1//EN
BEGIN:VEVENT
UID:230@cbt.org.mx
DTSTART;TZID=America/Mexico_City:20251123T063000
DTEND;TZID=America/Mexico_City:20251123T063000
DTSTAMP:20250701T214300Z
URL:https://cbt.org.mx/events/hello-kitty-and-friends-fun-run-gdl-2025/
SUMMARY:HELLO KITTY AND FRIENDS FUN RUN GDL 2025
DESCRIPTION:\n\nConvocatoria\n\n\n\n\nFecha: Domingo 23 de noviembre de 20
 25\n\nLugar: La Gran Plaza Fashion Mall\n\nDistancias: Carrera 5k\; Cami
 nata 3k\n\nHorario de Salida:\n\n 	5k y 3k: 6:30 am\n\nCategorías en amba
 s ramas: \nCarrera 5k:\n\n 	ÚNICA LIBRE – de 15 años en adelante.\n\n
 Caminata 3k:\n\n 	LIBRE – Sin límite de edad.\n\nRequisitos:\n\n 	Edad 
 mínima: 15 años cumplidos al día del evento (para la distancia de 5k)\n
  	Llenar solicitud de inscripción\, con nombre y firma de conformidad de 
 la carta responsiva y aviso de privacidad en los centros oficiales de insc
 ripción.\n 	Cubrir la cuota de inscripción de acuerdo al calendario de f
 echas.\n 	Apegarse estrictamente a las normas cívicas\, sanitarias\, oper
 ativas y ambientales del Comité Organizador.\n\nCuotas de Recuperación:\
 nCarreras 5k y 10k\n\n 	Precio regular: $ 550.00 de la apertura de inscrip
 ciones al viernes 21 de noviembre.\n 	Precio expo: $ 600.00 únicamente du
 rante da entrega de kits a reserva de que no se hayan agotado las inscripc
 iones antes de esta fecha.\n\nCaminata 3k\n\n 	Precio regular: $ 400.00 de
  la apertura de inscripciones al viernes 21 de noviembre.\n 	Precio expo: 
 $ 450.00 únicamente durante la entrega de kits a reserva de que no se hay
 an agotado las inscripciones antes de esta fecha.\n\n*** Precios más el 1
 0% por el uso de la plataforma de cobro electrónica.\n\nIMPORTANTE:\n\nLa
 s inscripciones quedan abiertas a partir de la publicación de la presente
  convocatoria y se cerrarán el viernes 21 de noviembre de 2025 a las 16:
 00 hrs o al agotar existencias. Sábado 22 de noviembre únicamente será 
 posible inscribirse en la entrega de kits del evento y a reserva de que no
  se hayan agotado las inscripciones antes de estas fechas.\nCentros de ins
 cripción:\n\n 	Por Internet en:  www.fhinix.com\n 	Pago en tiendas Oxxo
  de todo el país\, registrándose en www.fhinix.com\n\n*** El corredor
  sólo se podrá inscribir una vez y la información que proporcione deber
 á de ser verídica.\nAsignación de números:\nLos números serán asigna
 dos en forma automática de acuerdo a la fecha de inscripción.\nEntrega d
 e números:\nLa entrega del números y paquete de corredor se realizará e
 n La Gran Plaza Fashion Mall (Av. Ignacio L Vallarta 3959)\, el sábado 22
  de noviembre de 8 am a 2 pm.\n\nNOTA IMPORTANTE: La entrega de paquetes 
 es PERSONAL. Cada participante deberá presentar su identificación oficia
 l el día de la entrega de paquetes. No se harán cambio de nombres bajo n
 inguna circunstancia por seguridad del participante. El corredor que no re
 coja su paquete en los horarios establecidos perderá todo derecho derivad
 o de su inscripción. NO habra entrega de paquetes el dia de la carrera.\n
 \nPara recoger número y kit es necesario presentar el Código QR que te l
 legó a tu correo electrónico junto con una identificación oficial. No e
 s necesario llevar nada impreso\, salvo que vayas a recoger el número de 
 alguien más\, en ese caso sí es necesario llevar impreso su Código QR y
  una identificación oficial.\nServicios:\nEl Comité Organizador proporci
 onará los siguientes artículos y servicios a los corredores que se inscr
 iban de acuerdo a lo estipulado en esta convocatoria:\n\n 	Número oficial
 .\n 	Playera conmemorativa. (NO SE GARANTIZA QUE A TODOS LOS PARTICIPANTES
  SE LES PUEDA ENTREGAR LA TALLA QUE SOLICITEN\, SOLICITAMOS TALLA EN EL FO
 RMATO DE INSCRIPCIÓN ÚNICAMENTE PARA TEMAS ESTADÍSTICOS).\n 	Morral Con
 memorativo.\n 	Servicios médicos en salida – ruta – meta.\n 	Señaliz
 ación en ruta.\n 	Seguridad y vigilancia en ruta\, de acuerdo al programa
  de cierre y apertura de vialidades aprobado por el Gobierno de la CDMX.\n
  	Servicio de guardarropa.\n 	Servicio de sanitarios.\n 	Abasto de agua y 
 bebida isotónica en ruta y meta.\n 	Medalla de participación al corredor
  que cubra la distancia oficial. La medalla únicamente se le entregará a
 l corredor que haya corrido la ruta completa de su respectiva distancia.\n
 \n\n\n\n\nReglamento:\nVigente de la Federación Mexicana de Asociaciones 
 de Atletismo A. C.\nLIneamientos:\n\n 	Sólo se podrá correr con número 
 oficial\, el cual es intransferible y no podrá modificarse.\n 	Se asignar
 á un chip para las carreras de 5k y 10k\, programado con el número de pa
 rticipante el cual será intransferible.\n 	Es obligatorio pasar por todas
  las zonas de control de tiempos (tapetes)\, para recibir su certificado d
 e tiempo oficial.\n 	Se deberá respetar las zonas de abastecimiento ofici
 al.\n 	El paquete de recuperación\, será únicamente para los corredores
  que cuenten con su número oficial colocado en la parte frontal de la pla
 yera.\n 	Seguir en todo momento la ruta oficial marcada por el Comité Org
 anizador.\n\nTiempos límite para completar las distancias:\n\n3k y 5k: 1.
 00 Hr.\n\nTranscurrido el tiempo límite se abrirán las vialidades y el C
 omité Organizador no se hará responsable de la seguridad de los particip
 ante que continuen en ruta.\nRuta:\nLa salida y meta de todas las distanci
 as será en La Gran Plaza Fashion Mall.  Todas las distancias se correrá
 n sobre Av. Ignacio Vallarta.\n\n*** El Comité Organizador se reserva el 
 derecho de hacer cambios de última hora en cualquiera de las rutas.\nJuec
 es:\nLos jueces son el organismo oficial para avalar los resultados y darl
 es ese carácter\, ellos verifican el tiempo oficial\, siendo éste el que
  se registra desde el momento del disparo de salida que corresponda a cada
  participante\, ubicado en su bloque de salida correspondiente\, hasta el 
 momento de cruzar la meta.  Los jueces serán designados por la Federaci
 ón Mexicana de Asociaciones de Atletismo A. C.\, su decisión será inape
 lable. TODAS las Premiaciones se definen en función al TIEMPO OFICIAL.\n\
 n 	Tiempo Chip: Es el registrado desde que se cruza el tapete de la línea
  de salida hasta cruzar la linea de meta.\n 	Tiempo Oficial: Es el que se 
 registra desde el disparo de salida hasta que el corredor cruza la linea d
 e meta.\n\nResultados extra-oficiales: Se publicarán el domingo 22 de nov
 iembre a las 16:00 hrs.en www.fhinix.com\nPremiación:\nTodos los competi
 dores finalistas recibirán una medalla conmemorativa al finalizar el even
 to.\n\nEstímulos para ganadores:\n\n5k\n\n 	Primeros tres Lugares Absolut
 os Varonil – Medalla o Trofeo Conmemorativo\n 	Primeros tres Lugares A
 bsolutos Femenil – Medalla o Trofeo Conmemorativo\n 	No hay premiació
 n en la caminata 3k.\n\nCeremonia de Premiación:\n5k: Se premiará al ten
 er los resultados oficiales en el templete de premiación.\n\nNOTAS PREMIA
 CIÓN:\n\n 	En caso de que los ganadores no se presenten en la ceremonia d
 e premiación\, el periodo establecido como límite para recoger los premi
 os (lugar por definir) será de 7 días naturales a partir de la fecha del
  anuncio de resultados oficiales. Quién no reclame sus premios en ese pe
 riodo perdera su derecho a reclamarlos. Para reclamo de premios mandar cor
 reo a contacto@fhinix.com .\n 	El ganador deberá presentar identificaci
 ón oficial con fotografía para poder reclamar su premio. No se hará ent
 rega de los mismos a ningún representante.\n 	Jurado de Apelación:Toda p
 rotesta deberá ser presentada en tiempo y forma. Las protestas serán ate
 ndidas por el Jurado de Apelación de acuerdo al reglamento de la FMAA.\n 
 	Registro de Marcas:La imagen gráfica y el logotipo oficial de Hello Kitt
 y and Friends Fun Run es una marca registrada\, quien reproduzca o haga us
 o de ellos sin previa autorización del Comité Organizador\, será sujeto
  al proceso jurídico correspondiente por la autoridad competente.\n 	Tran
 sitorios:\n 	Los aspectos no previstos en esta Convocatoria\, serán resue
 ltos por el Comité Organizador y  la Federación Mexicana de Asociacione
 s de Atletismo A. C.\, sus decisiones se considerarán inapelables.\n 	En 
 caso de cancelación del evento por causas de fuerza mayor ajenas al Comit
 é Organizador\, no se hacen responsables: el Comité Organizador\, aliado
 s\, patrocinadores\, proveedores y autoridades por los daños y perjuicios
  que puedan sufrir los participantes inscritos y/o sus familiares y/o amig
 os\, por lo que no se hará compensación alguna monetaria o de ninguna es
 pecie por el monto de la inscripción.\n\nAgradecimientos:\nAutoridades de
 l Gobierno de Guadalajara\, Autoridades del Gobierno de Zapopan\, COMUDE G
 uadalajara\, Patrocinadores Oficiales\, a todos los corredores y corredora
 s participantes y a todos los involucrados en la organización de este eve
 nto.\n\n\n
ATTACH;FMTTYPE=image/jpeg:https://cbt.org.mx/wp-content/uploads/2025/07/Pa
 gina-Fhinix-14-e1750984772185.jpg
CATEGORIES:Carreras
LOCATION:La Gran Plaza Fashion Mall\, La Gran Plaza Fashion Mall\, Guadalaj
 ara\, Jalisco\, México
GEO:20.673634;-103.40499
X-APPLE-STRUCTURED-LOCATION;VALUE=URI;X-ADDRESS=La Gran Plaza Fashion Mall\
 , Guadalajara\, Jalisco\, México;X-APPLE-RADIUS=100;X-TITLE=La Gran Plaza
  Fashion Mall:geo:20.673634,-103.40499
END:VEVENT
BEGIN:VTIMEZONE
TZID:America/Mexico_City
X-LIC-LOCATION:America/Mexico_City
BEGIN:STANDARD
DTSTART:20241123T063000
TZOFFSETFROM:-0600
TZOFFSETTO:-0600
TZNAME:CST
END:STANDARD
END:VTIMEZONE
END:VCALENDAR