BEGIN:VCALENDAR
VERSION:2.0
PRODID:-//wp-events-plugin.com//7.2.3.1//EN
BEGIN:VEVENT
UID:344@cbt.org.mx
DTSTART;TZID=America/Mexico_City:20251102T073000
DTEND;TZID=America/Mexico_City:20251102T073000
DTSTAMP:20251028T220923Z
URL:https://cbt.org.mx/events/la-ruta-de-los-muertos-medio-maraton/
SUMMARY:La Ruta de los Muertos Medio Maratón
DESCRIPTION:Club de Corredores del Bosque de Tláhuac AC Invita:\n\nXV Medi
 o Maratón La Ruta de los Muertos\n\nPor 15a ocasión se desarrolla en Tl
 áhuac este gran medio maratón\, en el marco de las celebraciones por el 
 Día de Muertos\, como ya se ha hecho tradición.\n\nEste evento tiene por
  meta el Pueblo de Mixquic\, un lugar mágico y que se caracteriza por sus
  tradicionales festejos de Día de Muertos.\n\nEste evento no es organizad
 o por  Asdeporte.\n\nwww.asdeporte.com es también un medio de difusió
 n e inscripciones para otros organizadores de eventos. Para dudas\, aclar
 aciones o sugerencias favor de contactar directamente al organizador.\n\nO
 rganizador: CCBT AC\n\nCorreo: ccbtlahuac@gmail.com\n\nDatos del evento\
 n\nFecha: Domingo 2 de Noviembre del 2025\n\nLugar: Tláhuac\, Ciudad de
  México.\n\nDistancias:\n\n 	Medio Maratón 21 km\n 	Carrera 9 km\n\nLuga
 r de salida 21K: Universidad Marista\n\nLugar de salida 9K: Parque los
  Olivos\, San Juan Ixtayopan.\n\nHorario de salida: 7:30 a.m. ambas dista
 ncias\n\nCupo: Limitado a 2\,000 participantes\n\nEsta carrera es tipo 
 “Urban Trail” ya que combina terrenos asfaltados y de terracería\, as
 censos prolongados y bajadas empinadas\, aunque no es terreno técnico.\n\
 nEl desarrollo de la carrera es de una tercera parte por caminos pavimenta
 dos y el restante por caminos rurales\, de terracería\, completamente cor
 rible.\n\nLos 21km tienen una ganancia de altura o ascenso total de +150m.
  El tiempo límite para concluir el recorrido es de 3 horas. La distancia 
 de 9 km es principalmente en terrenos ejidales y terreno plano en su mayor
 ía.\n\nSe contará con puntos de hidratación durante el trayecto de amba
 s rutas\, sin embargo\, se recomienda que los corredores lleven algúna fo
 rma de hidratación personal por las distancias entre puntos de abasto\, p
 uede ser botella\, riñonera\, chaleco de hidratación\, etc.
ATTACH;FMTTYPE=image/jpeg:https://cbt.org.mx/wp-content/uploads/2025/10/17
 53922370637_logo.jpg
CATEGORIES:Carreras
LOCATION:Tláhuac\, Tláhuac\, Tláhuac\, Ciudad de México\, México
GEO:19.299023;-99.043647
X-APPLE-STRUCTURED-LOCATION;VALUE=URI;X-ADDRESS=Tláhuac\, Tláhuac\, Ciuda
 d de México\, México;X-APPLE-RADIUS=100;X-TITLE=Tláhuac:geo:19.299023,-
 99.043647
END:VEVENT
BEGIN:VTIMEZONE
TZID:America/Mexico_City
X-LIC-LOCATION:America/Mexico_City
BEGIN:STANDARD
DTSTART:20241102T073000
TZOFFSETFROM:-0600
TZOFFSETTO:-0600
TZNAME:CST
END:STANDARD
END:VTIMEZONE
END:VCALENDAR