BEGIN:VCALENDAR
VERSION:2.0
PRODID:-//wp-events-plugin.com//7.2.3.1//EN
BEGIN:VEVENT
UID:255@cbt.org.mx
DTSTART;TZID=America/Mexico_City:20250824T060000
DTEND;TZID=America/Mexico_City:20250824T060000
DTSTAMP:20250701T222212Z
URL:https://cbt.org.mx/events/medio-maraton-farrera-2025/
SUMMARY:Medio Maratón Farrera 2025
DESCRIPTION:\n\n\n\nwww.asdeporte.com es un medio de difusión y promoció
 n de eventos deportivos\, así como una plataforma para la captación de i
 nscripciones al servicio de los organizadores de eventos en general.\n\nDa
 tos de contacto con el organizador.\n\nE-mail: valadezc@yahoo.com\n\nPara
  dudas y aclaración sobre la logística del evento por favor de contactar
  directamente al organizador.\n\nPara dudas sobre el proceso de inscripci
 ón contáctanos\n\nDatos del Evento\n\nFecha: Domingo 24 de agosto de 20
 25.\n\nHorario: 6:00 am\n\nLugar: Parque Central de Tuxtla Gutierrez\, Chi
 apas.\n\n\n\n\n\n\n\n\nPremiación\n\n\nPremiación Varonil y Femenil Libr
 e 21 km\n\n 	1er Lugar $15\,000.00\n 	2do Lugar $10\,000\n 	3er Lugar $500
 .00\n\nPremiación Varonil y Femenil Veteranos 21 km\n\n 	1er Lugar $3\,00
 0.00\n 	2do Lugar $2\,000\n 	3er Lugar $1\,00.00\n\nPremiación Varonil y 
 Femenil Master 21 km\n\n 	1er Lugar $3\,000.00\n 	2do Lugar $2\,000\n 	3er
  Lugar $1\,00.00\n\nPremiación Varonil y Femenil Libre 10 km\n\n 	1er Lug
 ar $3\,000.00\n 	2do Lugar $2\,000\n 	3er Lugar $1\,00.00\n\nPremiación V
 aronil y Femenil Discapacitados 10 km\n\n 	1er Lugar $1\,500.00\n 	2do Lug
 ar $1\,000\n 	3er Lugar $500.00\n\n\n\n
ATTACH;FMTTYPE=image/jpeg:https://cbt.org.mx/wp-content/uploads/2025/07/17
 50444811806_LOGO-farrera.jpg
CATEGORIES:Carreras
LOCATION:Parque Central de Tuxtla Gutiérrez\, Parque Central de Tuxtla Gut
 iérrez\, Chiapas\, Tuxtla Gutiérrez\, Chiapas\, México
GEO:16.754362;-93.115595
X-APPLE-STRUCTURED-LOCATION;VALUE=URI;X-ADDRESS=Parque Central de Tuxtla Gu
 tiérrez\, Chiapas\, Tuxtla Gutiérrez\, Chiapas\, México;X-APPLE-RADIUS=
 100;X-TITLE=Parque Central de Tuxtla Gutiérrez:geo:16.754362,-93.115595
END:VEVENT
BEGIN:VTIMEZONE
TZID:America/Mexico_City
X-LIC-LOCATION:America/Mexico_City
BEGIN:STANDARD
DTSTART:20240824T060000
TZOFFSETFROM:-0600
TZOFFSETTO:-0600
TZNAME:CST
END:STANDARD
END:VTIMEZONE
END:VCALENDAR