BEGIN:VCALENDAR
VERSION:2.0
PRODID:-//wp-events-plugin.com//7.2.3.1//EN
BEGIN:VEVENT
UID:240@cbt.org.mx
DTSTART;TZID=America/Mexico_City:20250726T190000
DTEND;TZID=America/Mexico_City:20250726T190000
DTSTAMP:20250701T220230Z
URL:https://cbt.org.mx/events/pandemia-run-5k-operacion-rescate-animal2025
 /
SUMMARY:Pandemia Run 5K “Operación Rescate Animal”2025
DESCRIPTION:\n\n\nDurante el brote del virus zombie que devastó la ciudad\
 , muchas mascotas fueron abandonadas a su suerte. Estos animales\, que alg
 una vez fueron queridos miembros de una familia\, ahora se encuentran solo
 s y expuestos a peligros inimaginables. Pero un grupo de sobrevivientes\, 
 llenos de compasión y determinación\, decide regresar para rescatar el m
 ayor número posible de animales.\nPandemia Run 5K “Operación Rescate A
 nimal” es una carrera con causa donde hacemos colaboración con organiza
 ciones de rescate de animales\, refugios y perreras para ayudar a encontra
 r hogares amorosos y permanentes\, donde los animales abandonados o en ado
 pción sean bienvenidos y tratados con respeto.\nEsto no es solo una carre
 ra\, es una oportunidad para concienciar sobre el bienestar animal y para 
 mostrar que incluso en los momentos más difíciles\, nuestra compasión y
  empatía hacia los animales nunca debe ser olvidada.\n¡Prepárate e insc
 ríbete a tiempo!\n\nDatos de contacto con el organizador.\n\nE-mail: con
 tactopandemiazombie@gmail.com\n\nPara dudas y aclaración sobre la logíst
 ica del evento por favor de contactar directamente al organizador.\n\nPara
  dudas sobre el proceso de inscripción contáctanos\nDatos del evento\nF
 echa: Sábado 26 de julio de 2025\n\nHorario de Acceso : A partir de las
  16:00 h.\nInicio de recorrido: A partir de las 19:00 h.\n\nLugar: Bosque
  San Juan de Aragón \n\n\n\n\n\n\n\n\n\n\nPremiación \n\nAl ser un eve
 nto recreativo le premiación se dará a los  1er\, 2do y 3er lugares ab
 osolutos que hayan participado acompañados por su mascota.\n\n\n\n
ATTACH;FMTTYPE=image/jpeg:https://cbt.org.mx/wp-content/uploads/2025/07/17
 45718894108_300-300px.jpg
CATEGORIES:Carreras
LOCATION:Bosque San Juan de Aragón\, Bosque San Juan de Aragón\, CDMX\, C
 DMX\, México
GEO:19.459531;-99.077249
X-APPLE-STRUCTURED-LOCATION;VALUE=URI;X-ADDRESS=Bosque San Juan de Aragón\
 , CDMX\, CDMX\, México;X-APPLE-RADIUS=100;X-TITLE=Bosque San Juan de Arag
 ón:geo:19.459531,-99.077249
END:VEVENT
BEGIN:VTIMEZONE
TZID:America/Mexico_City
X-LIC-LOCATION:America/Mexico_City
BEGIN:STANDARD
DTSTART:20240726T190000
TZOFFSETFROM:-0600
TZOFFSETTO:-0600
TZNAME:CST
END:STANDARD
END:VTIMEZONE
END:VCALENDAR