BEGIN:VCALENDAR
VERSION:2.0
PRODID:-//wp-events-plugin.com//7.2.3.1//EN
BEGIN:VEVENT
UID:346@cbt.org.mx
DTSTART;TZID=America/Mexico_City:20251108T183000
DTEND;TZID=America/Mexico_City:20251108T183000
DTSTAMP:20251028T221100Z
URL:https://cbt.org.mx/events/sendero-de-las-animas-2025/
SUMMARY:Sendero de las Ánimas 2025
DESCRIPTION:\n\n\n\n\n\n\n\n\nEl Sendero de las Ánimas\, por 7a ocasión s
 e desarrolla en Tláhuac\, en el marco de las celebraciones por el Día de
  Muertos\, como ya se ha hecho tradición. Es una carrera de 5 y 10k noctu
 rna.\nEste evento no es organizado por  Asdeporte.\n\nwww.asdeporte.com
  es también un medio de difusión e inscripciones para otros organizador
 es de eventos. Para dudas\, aclaraciones o sugerencias favor de contactar
  directamente al organizador.\n\nOrganizador: CCBT AC\n\nCorreo: ccbtlah
 uac@gmail.com\n\nDatos del evento\n\nFecha: Sábado 8 de Noviembre del 202
 5\nLugar: Tláhuac\, Ciudad de México.\nDistancias: \n\n 	5K\n 	10K\n\n
 Horario de salida: 6:30 p.m.\nCupo: Limitado a 300 participantes\n\nEs una
  carrera en interior de un parque\, en semipenumbra dado que se busca un a
 mbiente en oscuridad. Se recomienda acudir con su lampara personal.\n\n\n\
 n\n\n\n\n\n&nbsp\;\n\n\n\n\n\n\n\n\n\n\n\n\n
ATTACH;FMTTYPE=image/jpeg:https://cbt.org.mx/wp-content/uploads/2025/10/17
 53979934777_logo.jpg
CATEGORIES:Carreras
LOCATION:Tláhuac\, Tláhuac\, Tláhuac\, Ciudad de México\, México
GEO:19.299023;-99.043647
X-APPLE-STRUCTURED-LOCATION;VALUE=URI;X-ADDRESS=Tláhuac\, Tláhuac\, Ciuda
 d de México\, México;X-APPLE-RADIUS=100;X-TITLE=Tláhuac:geo:19.299023,-
 99.043647
END:VEVENT
BEGIN:VTIMEZONE
TZID:America/Mexico_City
X-LIC-LOCATION:America/Mexico_City
BEGIN:STANDARD
DTSTART:20241108T183000
TZOFFSETFROM:-0600
TZOFFSETTO:-0600
TZNAME:CST
END:STANDARD
END:VTIMEZONE
END:VCALENDAR