BEGIN:VCALENDAR
VERSION:2.0
PRODID:-//wp-events-plugin.com//7.2.3.1//EN
BEGIN:VEVENT
UID:308@cbt.org.mx
DTSTART;TZID=America/Mexico_City:20251011T190000
DTEND;TZID=America/Mexico_City:20251011T190000
DTSTAMP:20250901T163339Z
URL:https://cbt.org.mx/events/transformers-run-choose-your-side-2025/
SUMMARY:Transformers Run Choose Your Side 2025
DESCRIPTION:\n\n\n\nwww.asdeporte.com es un medio de difusión y promoció
 n de eventos deportivos\, así como una plataforma para la captación de i
 nscripciones al servicio de los organizadores de eventos en general.\n\nDa
 tos de contacto con el organizador.\n\nTeléfono(s): 55 767 593 39 o 55 7
 67 593 40\n\nE-mail: contacto@mx-race.com\n\nPara dudas y aclaración sob
 re la logística del evento por favor de contactar directamente al organiz
 ador.\n\nPara dudas sobre el proceso de inscripción contáctanos\n\nDato
 s del evento\n\nFecha: Sábado 11 de octubre de 2025.\n\nHorario: 19:00 
 h.\n\nLugar: 1a Sección de Chapultepec\, CDMX.\n\n\n\n\n\n\n\n\nPremiac
 ión\n\n&nbsp\;\n\n- Se premiará a los tres primeros lugares de cada cat
 egoría\, todos los participantes recibirán medalla de participación.\n\
 n&nbsp\;\n\n\n\n
ATTACH;FMTTYPE=image/jpeg:https://cbt.org.mx/wp-content/uploads/2025/09/17
 54401642746_logo-trans.jpg
CATEGORIES:Carreras
LOCATION:Primera Sección del Bosque de Chapultepec\, Primera Sección del 
 Bosque de Chapultepec\, CDMX\, CDMX\, México
GEO:19.419482;-99.189456
X-APPLE-STRUCTURED-LOCATION;VALUE=URI;X-ADDRESS=Primera Sección del Bosque
  de Chapultepec\, CDMX\, CDMX\, México;X-APPLE-RADIUS=100;X-TITLE=Primera
  Sección del Bosque de Chapultepec:geo:19.419482,-99.189456
END:VEVENT
BEGIN:VTIMEZONE
TZID:America/Mexico_City
X-LIC-LOCATION:America/Mexico_City
BEGIN:STANDARD
DTSTART:20241011T190000
TZOFFSETFROM:-0600
TZOFFSETTO:-0600
TZNAME:CST
END:STANDARD
END:VTIMEZONE
END:VCALENDAR